BEGIN:VCALENDAR
VERSION:2.0
PRODID:-//Cj&#039;s Edge Workx - ECPv6.15.20//NONSGML v1.0//EN
CALSCALE:GREGORIAN
METHOD:PUBLISH
X-WR-CALNAME:Cj&#039;s Edge Workx
X-ORIGINAL-URL:https://cjsew.ca
X-WR-CALDESC:Events for Cj&#039;s Edge Workx
REFRESH-INTERVAL;VALUE=DURATION:PT1H
X-Robots-Tag:noindex
X-PUBLISHED-TTL:PT1H
BEGIN:VTIMEZONE
TZID:America/New_York
BEGIN:DAYLIGHT
TZOFFSETFROM:-0500
TZOFFSETTO:-0400
TZNAME:EDT
DTSTART:20250309T070000
END:DAYLIGHT
BEGIN:STANDARD
TZOFFSETFROM:-0400
TZOFFSETTO:-0500
TZNAME:EST
DTSTART:20251102T060000
END:STANDARD
BEGIN:DAYLIGHT
TZOFFSETFROM:-0500
TZOFFSETTO:-0400
TZNAME:EDT
DTSTART:20260308T070000
END:DAYLIGHT
BEGIN:STANDARD
TZOFFSETFROM:-0400
TZOFFSETTO:-0500
TZNAME:EST
DTSTART:20261101T060000
END:STANDARD
BEGIN:DAYLIGHT
TZOFFSETFROM:-0500
TZOFFSETTO:-0400
TZNAME:EDT
DTSTART:20270314T070000
END:DAYLIGHT
BEGIN:STANDARD
TZOFFSETFROM:-0400
TZOFFSETTO:-0500
TZNAME:EST
DTSTART:20271107T060000
END:STANDARD
END:VTIMEZONE
BEGIN:VEVENT
DTSTART;TZID=America/New_York:20260421T170000
DTEND;TZID=America/New_York:20260421T200000
DTSTAMP:20260420T073956
CREATED:20260401T225926Z
LAST-MODIFIED:20260401T225938Z
UID:10000678-1776790800-1776801600@cjsew.ca
SUMMARY:VMSC Hours
DESCRIPTION:
URL:https://cjsew.ca/event/vmsc-hours/2026-04-21/
END:VEVENT
BEGIN:VEVENT
DTSTART;TZID=America/New_York:20260423T170000
DTEND;TZID=America/New_York:20260423T200000
DTSTAMP:20260420T073956
CREATED:20260401T225926Z
LAST-MODIFIED:20260401T225938Z
UID:10000679-1776963600-1776974400@cjsew.ca
SUMMARY:VMSC Hours
DESCRIPTION:
URL:https://cjsew.ca/event/vmsc-hours/2026-04-23/
END:VEVENT
BEGIN:VEVENT
DTSTART;TZID=America/New_York:20260425T100000
DTEND;TZID=America/New_York:20260425T140000
DTSTAMP:20260420T073956
CREATED:20260401T225926Z
LAST-MODIFIED:20260401T225938Z
UID:10000680-1777111200-1777125600@cjsew.ca
SUMMARY:VMSC Hours
DESCRIPTION:
URL:https://cjsew.ca/event/vmsc-hours/2026-04-25/
END:VEVENT
BEGIN:VEVENT
DTSTART;TZID=America/New_York:20260428T170000
DTEND;TZID=America/New_York:20260428T200000
DTSTAMP:20260420T073956
CREATED:20260401T225926Z
LAST-MODIFIED:20260401T225938Z
UID:10000681-1777395600-1777406400@cjsew.ca
SUMMARY:VMSC Hours
DESCRIPTION:
URL:https://cjsew.ca/event/vmsc-hours/2026-04-28/
END:VEVENT
BEGIN:VEVENT
DTSTART;TZID=America/New_York:20260430T170000
DTEND;TZID=America/New_York:20260430T200000
DTSTAMP:20260420T073956
CREATED:20260401T225926Z
LAST-MODIFIED:20260401T225938Z
UID:10000682-1777568400-1777579200@cjsew.ca
SUMMARY:VMSC Hours
DESCRIPTION:
URL:https://cjsew.ca/event/vmsc-hours/2026-04-30/
END:VEVENT
END:VCALENDAR